{ "currentVersion": 10.91, "serviceDescription": "

The slope function was most likely run on the 3-ft DEM from LAR-IAC4. This dataset represents percent slope (rise/run * 100).<\/SPAN><\/P>
Detailed product information is contained in the <\/SPAN>LAR-IAC Product Guide<\/SPAN><\/A>.<\/SPAN><\/P>
We highly recommend that you visit the <\/SPAN>LAR-IAC Project Website<\/SPAN><\/A>to find a rich source of information about the data and the LAR-IAC program. The site includes project documents, full FGDC compliant metadata, data downloads of related GIS used to complete the project, sub-licensing information, sample imagery and data, and information about the 2014-2016 acquisition.<\/SPAN><\/P>
GIS Data showing flight-date information is available from the LAR-IAC Project website site, and elsewhere in the <\/SPAN>LA County GIS Data Portal<\/SPAN><\/A>.<\/SPAN><\/P>
The imagery is held under license from Pictometry International Corp, and cannot be publicly released. Government entities are eligible to join the LAR-IAC program to access the data. Private entities may contact Pictometry directly to purchase selected parts of the data.<\/SPAN><\/P><\/DIV><\/DIV><\/DIV>", "name": "DRP/DRP_Slope25_Sample_Las_Lomas", "description": "

The slope function was most likely run on the 3-ft DEM from LAR-IAC4. This dataset represents percent slope (rise/run * 100).<\/SPAN><\/P>
Detailed product information is contained in the <\/SPAN>LAR-IAC Product Guide<\/SPAN><\/A>.<\/SPAN><\/P>
We highly recommend that you visit the <\/SPAN>LAR-IAC Project Website<\/SPAN><\/A>to find a rich source of information about the data and the LAR-IAC program. The site includes project documents, full FGDC compliant metadata, data downloads of related GIS used to complete the project, sub-licensing information, sample imagery and data, and information about the 2014-2016 acquisition.<\/SPAN><\/P>
GIS Data showing flight-date information is available from the LAR-IAC Project website site, and elsewhere in the <\/SPAN>LA County GIS Data Portal<\/SPAN><\/A>.<\/SPAN><\/P>
The imagery is held under license from Pictometry International Corp, and cannot be publicly released. Government entities are eligible to join the LAR-IAC program to access the data. Private entities may contact Pictometry directly to purchase selected parts of the data.<\/SPAN><\/P><\/DIV><\/DIV><\/DIV>", "extent": { "xmin": 6400723, "ymin": 1942191, "xmax": 6411286, "ymax": 1952754, "spatialReference": { "wkid": 102645, "latestWkid": 2229 } }, "initialExtent": { "xmin": 6400723, "ymin": 1942191, "xmax": 6411286, "ymax": 1952754, "spatialReference": { "wkid": 102645, "latestWkid": 2229 } }, "fullExtent": { "xmin": 6400723, "ymin": 1942191, "xmax": 6411286, "ymax": 1952754, "spatialReference": { "wkid": 102645, "latestWkid": 2229 } }, "hasMultidimensions": false, "pixelSizeX": 3, "pixelSizeY": 3, "datasetFormat": "SDR", "uncompressedSize": 49589764, "blockWidth": 128, "blockHeight": 128, "compressionType": "LZ77", "bandNames": [ "Band_1" ], "allowCopy": true, "allowAnalysis": true, "bandCount": 1, "pixelType": "F32", "minPixelSize": 0, "maxPixelSize": 0, "copyrightText": "Los Angeles Region Imagery Acquisition Consortium (LAR-IAC) 4, Pictometry International Corp", "serviceDataType": "esriImageServiceDataTypeGeneric", "serviceSourceType": "esriImageServiceSourceTypeDataset", "minValues": [ 0.0010172525653615594 ], "maxValues": [ 1603.364990234375 ], "meanValues": [ 52.914171891042066 ], "stdvValues": [ 40.87664288957666 ], "objectIdField": "", "fields": [], "capabilities": "Image,Metadata,Mensuration", "defaultMosaicMethod": "Center", "allowedMosaicMethods": "", "sortField": "", "sortValue": null, "sortAscending": true, "mosaicOperator": "First", "defaultCompressionQuality": 75, "defaultResamplingMethod": "Bilinear", "maxImageHeight": 4100, "maxImageWidth": 15000, "allowRasterFunction": true, "rasterFunctionInfos": [ { "name": "None", "description": "", "help": "" } ], "rasterTypeInfos": [ { "name": "Raster Dataset", "description": "Supports all ArcGIS Raster Datasets", "help": "" } ], "mensurationCapabilities": "Basic", "hasHistograms": true, "hasColormap": false, "hasRasterAttributeTable": false, "minScale": 0, "maxScale": 0, "exportTilesAllowed": false, "supportsStatistics": false, "supportsAdvancedQueries": false, "editFieldsInfo": null, "ownershipBasedAccessControlForRasters": null, "allowComputeTiePoints": false, "useStandardizedQueries": true, "advancedQueryCapabilities": { "useStandardizedQueries": true, "supportsStatistics": false, "supportsOrderBy": false, "supportsDistinct": false, "supportsPagination": false }, "spatialReference": { "wkid": 102645, "latestWkid": 2229 } }