{
 "currentVersion": 10.91,
 "serviceDescription": "DRP/INDEX_MAPS",
 "name": "DRP/INDEX_MAPS",
 "description": "",
 "extent": {
  "xmin": 6270717.5,
  "ymin": 1793589,
  "xmax": 6630771.5,
  "ymax": 2124697.5,
  "spatialReference": {
   "wkid": 102645,
   "latestWkid": 2229
  }
 },
 "initialExtent": {
  "xmin": 6270717.5,
  "ymin": 1793589,
  "xmax": 6630771.5,
  "ymax": 2124697.5,
  "spatialReference": {
   "wkid": 102645,
   "latestWkid": 2229
  }
 },
 "fullExtent": {
  "xmin": 6270717.5,
  "ymin": 1793589,
  "xmax": 6630771.5,
  "ymax": 2124697.5,
  "spatialReference": {
   "wkid": 102645,
   "latestWkid": 2229
  }
 },
 "hasMultidimensions": false,
 "pixelSizeX": 1.5,
 "pixelSizeY": 1.5,
 "datasetFormat": "SDR",
 "uncompressedSize": 52985306604,
 "blockWidth": 128,
 "blockHeight": 128,
 "compressionType": "JPEG",
 "bandNames": [
  "Band_1"
 ],
 "allowCopy": true,
 "allowAnalysis": true,
 "bandCount": 1,
 "pixelType": "U8",
 "minPixelSize": 0,
 "maxPixelSize": 0,
 "copyrightText": "",
 "serviceDataType": "esriImageServiceDataTypeGeneric",
 "serviceSourceType": "esriImageServiceSourceTypeDataset",
 "minValues": [
  0
 ],
 "maxValues": [
  255
 ],
 "meanValues": [
  243.43655995785312
 ],
 "stdvValues": [
  27.917272729221605
 ],
 "objectIdField": "",
 "fields": [],
 "capabilities": "Image,Metadata,Mensuration",
 "defaultMosaicMethod": "Center",
 "allowedMosaicMethods": "",
 "sortField": "",
 "sortValue": null,
 "sortAscending": true,
 "mosaicOperator": "First",
 "defaultCompressionQuality": 75,
 "defaultResamplingMethod": "Bilinear",
 "maxImageHeight": 4100,
 "maxImageWidth": 15000,
 "allowRasterFunction": true,
 "rasterFunctionInfos": [
  {
   "name": "None",
   "description": "",
   "help": ""
  }
 ],
 "rasterTypeInfos": [
  {
   "name": "Raster Dataset",
   "description": "Supports all ArcGIS Raster Datasets",
   "help": ""
  }
 ],
 "mensurationCapabilities": "Basic",
 "hasHistograms": true,
 "hasColormap": false,
 "hasRasterAttributeTable": false,
 "minScale": 0,
 "maxScale": 0,
 "exportTilesAllowed": false,
 "supportsStatistics": false,
 "supportsAdvancedQueries": false,
 "editFieldsInfo": null,
 "ownershipBasedAccessControlForRasters": null,
 "allowComputeTiePoints": false,
 "useStandardizedQueries": true,
 "advancedQueryCapabilities": {
  "useStandardizedQueries": true,
  "supportsStatistics": false,
  "supportsOrderBy": false,
  "supportsDistinct": false,
  "supportsPagination": false
 },
 "spatialReference": {
  "wkid": 102645,
  "latestWkid": 2229
 }
}
