{ "currentVersion": 10.91, "serviceDescription": "

The <\/SPAN>Normalized Difference Vegetation Index (NDVI)<\/SPAN> is a simple numerical indicator that can be used to analyze remote sensing measurements, typically but not necessarily from a space platform, and assess whether the target being observed contains live green vegetation or not. NDVI was developed from the 2006 Color Infrared (CIR) imagery at 4-inch resolution which contains the Red and Near Infrared (NIR) Bands. <\/SPAN>Click here for more information<\/SPAN><\/A><\/P>
NDVI values range between -1 and 1. Values > 0.1 are generally green vegetation, while values < 0.1 show things like buildings, streets, water and bare dirt.<\/SPAN><\/P>
For more information on NDVI, <\/SPAN>read the wikipedia entry.<\/SPAN><\/A><\/P>
This dataset was developed by the County of Los Angeles Chief Information Office in support of the LA County Solar Map Application (<\/SPAN>http://solarmap.lacounty.gov<\/SPAN><\/A>). A solar model based upon the high-resolution digital aerial elevation data included the tops of trees, the ground, and other features that would skew any solar results. For example \u2013 the top of a tree appeared to the solar model to be a prime candidate for solar photovoltaic installation due to the amount of sunlight it received, but this was obviously incorrect, and some way needed to be found to focus exclusively on building tops for the purpose of the site.<\/SPAN><\/P><\/DIV>", "name": "LARIAC4/EGIS_ENVIRONMENTAL_EGIS_LARIAC_NDVI", "description": "

The <\/SPAN>Normalized Difference Vegetation Index (NDVI)<\/SPAN> is a simple numerical indicator that can be used to analyze remote sensing measurements, typically but not necessarily from a space platform, and assess whether the target being observed contains live green vegetation or not. NDVI was developed from the 2006 Color Infrared (CIR) imagery at 4-inch resolution which contains the Red and Near Infrared (NIR) Bands. <\/SPAN>Click here for more information<\/SPAN><\/A><\/P>
NDVI values range between -1 and 1. Values > 0.1 are generally green vegetation, while values < 0.1 show things like buildings, streets, water and bare dirt.<\/SPAN><\/P>
For more information on NDVI, <\/SPAN>read the wikipedia entry.<\/SPAN><\/A><\/P>
This dataset was developed by the County of Los Angeles Chief Information Office in support of the LA County Solar Map Application (<\/SPAN>http://solarmap.lacounty.gov<\/SPAN><\/A>). A solar model based upon the high-resolution digital aerial elevation data included the tops of trees, the ground, and other features that would skew any solar results. For example \u2013 the top of a tree appeared to the solar model to be a prime candidate for solar photovoltaic installation due to the amount of sunlight it received, but this was obviously incorrect, and some way needed to be found to focus exclusively on building tops for the purpose of the site.<\/SPAN><\/P><\/DIV>", "extent": { "xmin": 6273760, "ymin": 1567424, "xmax": 6667120, "ymax": 2124480, "spatialReference": { "wkid": 102645, "latestWkid": 2229 } }, "initialExtent": { "xmin": 6273760, "ymin": 1567424, "xmax": 6667120, "ymax": 2124480, "spatialReference": { "wkid": 102645, "latestWkid": 2229 } }, "fullExtent": { "xmin": 6273760, "ymin": 1567424, "xmax": 6667120, "ymax": 2124480, "spatialReference": { "wkid": 102645, "latestWkid": 2229 } }, "hasMultidimensions": false, "pixelSizeX": 2, "pixelSizeY": 2, "datasetFormat": "SDR", "uncompressedSize": 219123548160, "blockWidth": 128, "blockHeight": 128, "compressionType": "LZ77", "bandNames": [ "Band_1" ], "allowCopy": true, "allowAnalysis": true, "bandCount": 1, "pixelType": "F32", "minPixelSize": 0, "maxPixelSize": 0, "copyrightText": "LARIAC, Infotech, Mark Greninger", "serviceDataType": "esriImageServiceDataTypeGeneric", "serviceSourceType": "esriImageServiceSourceTypeDataset", "minValues": [ -1 ], "maxValues": [ 1 ], "meanValues": [ 0.07411163154345372 ], "stdvValues": [ 0.11496843596025426 ], "objectIdField": "", "fields": [], "capabilities": "Image,Metadata,Mensuration", "defaultMosaicMethod": "Center", "allowedMosaicMethods": "", "sortField": "", "sortValue": null, "sortAscending": true, "mosaicOperator": "First", "defaultCompressionQuality": 75, "defaultResamplingMethod": "Bilinear", "maxImageHeight": 4100, "maxImageWidth": 15000, "allowRasterFunction": true, "rasterFunctionInfos": [ { "name": "None", "description": "", "help": "" } ], "rasterTypeInfos": [ { "name": "Raster Dataset", "description": "Supports all ArcGIS Raster Datasets", "help": "" } ], "mensurationCapabilities": "Basic", "hasHistograms": true, "hasColormap": false, "hasRasterAttributeTable": false, "minScale": 0, "maxScale": 0, "exportTilesAllowed": false, "supportsStatistics": false, "supportsAdvancedQueries": false, "editFieldsInfo": null, "ownershipBasedAccessControlForRasters": null, "allowComputeTiePoints": false, "useStandardizedQueries": true, "advancedQueryCapabilities": { "useStandardizedQueries": true, "supportsStatistics": false, "supportsOrderBy": false, "supportsDistinct": false, "supportsPagination": false }, "spatialReference": { "wkid": 102645, "latestWkid": 2229 } }