{ "currentVersion": 10.91, "serviceDescription": "
Tree canopy layer extracted from LAR-IAC4 land cover dataset.<\/SPAN><\/P><\/DIV><\/DIV>",
"name": "LARIAC4/eGIS_Environmental_EGIS_LARIAC_TREE_CANOPY_2016",
"description": " Tree canopy layer extracted from LAR-IAC4 land cover dataset.<\/SPAN><\/P><\/DIV><\/DIV>",
"extent": {
"xmin": 6275259.76185904,
"ymin": 1567332.2421496399,
"xmax": 6668475.76185904,
"ymax": 2122212.24214964,
"spatialReference": {
"wkid": 102645,
"latestWkid": 2229
}
},
"initialExtent": {
"xmin": 6275259.76185904,
"ymin": 1567332.2421496399,
"xmax": 6668475.76185904,
"ymax": 2122212.24214964,
"spatialReference": {
"wkid": 102645,
"latestWkid": 2229
}
},
"fullExtent": {
"xmin": 6275259.76185904,
"ymin": 1567332.2421496399,
"xmax": 6668475.76185904,
"ymax": 2122212.24214964,
"spatialReference": {
"wkid": 102645,
"latestWkid": 2229
}
},
"hasMultidimensions": false,
"pixelSizeX": 0.75,
"pixelSizeY": 0.75,
"datasetFormat": "SDR",
"uncompressedSize": 193944616960,
"blockWidth": 128,
"blockHeight": 128,
"compressionType": "LZ77",
"bandNames": [
"Band_1"
],
"allowCopy": true,
"allowAnalysis": true,
"bandCount": 1,
"pixelType": "U4",
"minPixelSize": 0,
"maxPixelSize": 0,
"copyrightText": "LAR-IAC",
"serviceDataType": "esriImageServiceDataTypeGeneric",
"serviceSourceType": "esriImageServiceSourceTypeDataset",
"minValues": [],
"maxValues": [],
"meanValues": [],
"stdvValues": [],
"objectIdField": "",
"fields": [],
"capabilities": "Image,Metadata,Mensuration",
"defaultMosaicMethod": "Center",
"allowedMosaicMethods": "",
"sortField": "",
"sortValue": null,
"sortAscending": true,
"mosaicOperator": "First",
"defaultCompressionQuality": 75,
"defaultResamplingMethod": "Bilinear",
"maxImageHeight": 4100,
"maxImageWidth": 15000,
"allowRasterFunction": true,
"rasterFunctionInfos": [
{
"name": "None",
"description": "",
"help": ""
}
],
"rasterTypeInfos": [
{
"name": "Raster Dataset",
"description": "Supports all ArcGIS Raster Datasets",
"help": ""
}
],
"mensurationCapabilities": "Basic",
"hasHistograms": false,
"hasColormap": false,
"hasRasterAttributeTable": true,
"minScale": 0,
"maxScale": 0,
"exportTilesAllowed": false,
"supportsStatistics": false,
"supportsAdvancedQueries": false,
"editFieldsInfo": null,
"ownershipBasedAccessControlForRasters": null,
"allowComputeTiePoints": false,
"useStandardizedQueries": true,
"advancedQueryCapabilities": {
"useStandardizedQueries": true,
"supportsStatistics": false,
"supportsOrderBy": false,
"supportsDistinct": false,
"supportsPagination": false
},
"spatialReference": {
"wkid": 102645,
"latestWkid": 2229
}
}