{
 "currentVersion": 10.91,
 "serviceDescription": "High resolution land cover dataset for Los Angeles, CA. Eight land cover classes were mapped: (1) tree canopy, (2) grass/shrub, (3) bare earth, (4) water, (5) buildings, (6) roads, (7) other paved surfaces, and (8) tall shrubs.\n\nEsri\u2019s Imagery Team and Professional Services Team were contracted to produce an updated land cover dataset using LARIAC5 (2017) imagery. The Imagery Team utilized new deep learning capabilities in ArcGIS Pro to generate our final product. Deep learning is a type of machine learning that is based on artificial neural networks, and in this case, a deep learning model was trained with images of different land cover classes, processing the images through layers within the neural network, and then finding patterns and features in the data required to classify the imagery.",
 "name": "LARIAC5/LANDCOVER_2017",
 "description": "High resolution land cover dataset for Los Angeles, CA. Eight land cover classes were mapped: (1) tree canopy, (2) grass/shrub, (3) bare earth, (4) water, (5) buildings, (6) roads, (7) other paved surfaces, and (8) tall shrubs.\n\nEsri\u2019s Imagery Team and Professional Services Team were contracted to produce an updated land cover dataset using LARIAC5 (2017) imagery. The Imagery Team utilized new deep learning capabilities in ArcGIS Pro to generate our final product. Deep learning is a type of machine learning that is based on artificial neural networks, and in this case, a deep learning model was trained with images of different land cover classes, processing the images through layers within the neural network, and then finding patterns and features in the data required to classify the imagery.",
 "extent": {
  "xmin": -1.3241541942078302E7,
  "ymin": 3934095.2327129263,
  "xmax": -1.3096720297171012E7,
  "ymax": 4140818.809040079,
  "spatialReference": {
   "wkid": 102100,
   "latestWkid": 3857
  }
 },
 "initialExtent": {
  "xmin": -1.3241541942078302E7,
  "ymin": 3934095.2327129263,
  "xmax": -1.3096720297171012E7,
  "ymax": 4140818.809040079,
  "spatialReference": {
   "wkid": 102100,
   "latestWkid": 3857
  }
 },
 "fullExtent": {
  "xmin": -1.3241541942078302E7,
  "ymin": 3934095.2327129263,
  "xmax": -1.3096720297171012E7,
  "ymax": 4140818.809040079,
  "spatialReference": {
   "wkid": 102100,
   "latestWkid": 3857
  }
 },
 "hasMultidimensions": false,
 "pixelSizeX": 0.09753619507239035,
 "pixelSizeY": 0.0975361950723901,
 "datasetFormat": "TIFF",
 "uncompressedSize": 12587858658180,
 "blockWidth": 128,
 "blockHeight": 128,
 "compressionType": "LZW",
 "bandNames": [
  "Band_1"
 ],
 "allowCopy": true,
 "allowAnalysis": true,
 "bandCount": 1,
 "noDataValue": -9999,
 "noDataValues": [
  -9999
 ],
 "pixelType": "S32",
 "minPixelSize": 0,
 "maxPixelSize": 0,
 "copyrightText": "LA County Public Works, Esri\u2019s Imagery Team and Professional Services, LARIAC",
 "serviceDataType": "esriImageServiceDataTypeThematic",
 "serviceSourceType": "esriImageServiceSourceTypeDataset",
 "minValues": [
  1
 ],
 "maxValues": [
  8
 ],
 "meanValues": [
  3.6220073472798
 ],
 "stdvValues": [
  2.0596690034446
 ],
 "objectIdField": "",
 "fields": [],
 "capabilities": "Mensuration,Image,Metadata",
 "defaultMosaicMethod": "Center",
 "allowedMosaicMethods": "",
 "sortField": "",
 "sortValue": null,
 "sortAscending": true,
 "mosaicOperator": "First",
 "defaultCompressionQuality": 75,
 "defaultResamplingMethod": "Bilinear",
 "maxImageHeight": 8200,
 "maxImageWidth": 30000,
 "allowRasterFunction": true,
 "rasterFunctionInfos": [
  {
   "name": "None",
   "description": "Make a Raster or Raster Dataset into a Function Raster Dataset.",
   "help": ""
  }
 ],
 "rasterTypeInfos": [
  {
   "name": "Raster Dataset",
   "description": "Supports all ArcGIS Raster Datasets",
   "help": ""
  }
 ],
 "mensurationCapabilities": "Basic",
 "hasHistograms": true,
 "hasColormap": true,
 "hasRasterAttributeTable": true,
 "minScale": 0,
 "maxScale": 0,
 "exportTilesAllowed": false,
 "supportsStatistics": false,
 "supportsAdvancedQueries": false,
 "editFieldsInfo": null,
 "ownershipBasedAccessControlForRasters": null,
 "allowComputeTiePoints": false,
 "useStandardizedQueries": true,
 "advancedQueryCapabilities": {
  "useStandardizedQueries": true,
  "supportsStatistics": false,
  "supportsOrderBy": false,
  "supportsDistinct": false,
  "supportsPagination": false
 },
 "spatialReference": {
  "wkid": 102100,
  "latestWkid": 3857
 }
}
