{
 "currentVersion": 10.91,
 "serviceDescription": "LARIAC6/LANDCOVER_2020",
 "name": "LARIAC6/LANDCOVER_2020",
 "description": "",
 "extent": {
  "xmin": 6275507.2,
  "ymin": 1388780.0000000014,
  "xmax": 6668480.799999999,
  "ymax": 2122084.8,
  "spatialReference": {
   "wkid": 103007,
   "latestWkid": 6424
  }
 },
 "initialExtent": {
  "xmin": 6275507.2,
  "ymin": 1388780.0000000014,
  "xmax": 6668480.799999999,
  "ymax": 2122084.8,
  "spatialReference": {
   "wkid": 103007,
   "latestWkid": 6424
  }
 },
 "fullExtent": {
  "xmin": 6275507.2,
  "ymin": 1388780.0000000014,
  "xmax": 6668480.799999999,
  "ymax": 2122084.8,
  "spatialReference": {
   "wkid": 103007,
   "latestWkid": 6424
  }
 },
 "hasMultidimensions": false,
 "pixelSizeX": 0.7999999999999974,
 "pixelSizeY": 0.7999999999999983,
 "datasetFormat": "TIFF",
 "uncompressedSize": 450264729927,
 "blockWidth": 128,
 "blockHeight": 128,
 "compressionType": "LZW",
 "bandNames": [
  "Band_1"
 ],
 "allowCopy": true,
 "allowAnalysis": true,
 "bandCount": 1,
 "noDataValue": 255,
 "noDataValues": [
  255
 ],
 "pixelType": "U8",
 "minPixelSize": 0,
 "maxPixelSize": 0,
 "copyrightText": "",
 "serviceDataType": "esriImageServiceDataTypeGeneric",
 "serviceSourceType": "esriImageServiceSourceTypeDataset",
 "minValues": [
  1
 ],
 "maxValues": [
  7
 ],
 "meanValues": [
  3.4204436037253
 ],
 "stdvValues": [
  1.5617187454892
 ],
 "objectIdField": "",
 "fields": [],
 "capabilities": "Mensuration,Image,Metadata",
 "defaultMosaicMethod": "Center",
 "allowedMosaicMethods": "",
 "sortField": "",
 "sortValue": null,
 "sortAscending": true,
 "mosaicOperator": "First",
 "defaultCompressionQuality": 75,
 "defaultResamplingMethod": "Bilinear",
 "maxImageHeight": 4100,
 "maxImageWidth": 15000,
 "allowRasterFunction": true,
 "rasterFunctionInfos": [
  {
   "name": "None",
   "description": "Make a Raster or Raster Dataset into a Function Raster Dataset.",
   "help": ""
  },
  {
   "name": "Landcover2020_Raster_Function_Template",
   "description": "A land cover image classification using the 2020 LARIAC aerial imagery conducted by Dudek: 1 = canopy (non-decid), 2 = medium vegetation, 3 = low vegetation, 4 = bare ground, 5 = impervious, 6 = water, 7 = canopy (decid).",
   "help": ""
  }
 ],
 "rasterTypeInfos": [
  {
   "name": "Raster Dataset",
   "description": "Supports all ArcGIS Raster Datasets",
   "help": ""
  }
 ],
 "mensurationCapabilities": "Basic",
 "hasHistograms": true,
 "hasColormap": false,
 "hasRasterAttributeTable": true,
 "minScale": 0,
 "maxScale": 0,
 "exportTilesAllowed": false,
 "supportsStatistics": false,
 "supportsAdvancedQueries": false,
 "editFieldsInfo": null,
 "ownershipBasedAccessControlForRasters": null,
 "allowComputeTiePoints": false,
 "useStandardizedQueries": true,
 "advancedQueryCapabilities": {
  "useStandardizedQueries": true,
  "supportsStatistics": false,
  "supportsOrderBy": false,
  "supportsDistinct": false,
  "supportsPagination": false
 },
 "spatialReference": {
  "wkid": 103007,
  "latestWkid": 6424
 }
}
