{ "currentVersion": 10.91, "serviceDescription": "

This layer is a combination of two datasets. One of which is an Normalized Difference Vegetation Index (NDVI) product derived from the LARIAC7 program and the other is a Normalized Digital Surface Model from our County partners at NV5. These two datasets were combined together to produce a new countywide tree canopy layer. The imagery was collected in Winter of 2023 and only includes urban/suburban areas of the County of Los Angeles. <\/SPAN><\/P>
  1. Los Angeles Region Imagery Acquisition Consortium (LARIAC-7) <\/SPAN><\/A>Normalized Difference Vegetation Index (NDVI) tiff tiles. NDVI is a simple numerical indicator that can be used to analyze remote sensing measurements, typically but not necessarily from a space platform, and assess whether the target being observed contains live green vegetation or not. NDVI was developed from the 2023 Color Infrared (CIR) imagery at 4-inch resolution which contains the Red and Near Infrared (NIR) Bands. <\/SPAN>Click here for more information.<\/SPAN><\/A><\/P><\/LI>
  2. Normalized Digital Surface Model (NDSM)<\/SPAN><\/A> tiff tiles. NDSM (normalized digital surface model) represents the relative height of features above the surrounding ground surface. It is a valuable elevation product that provides insights into the relative height of features compared to the surrounding ground. In contrast, DSMs (digital surface models) and DTMs (digital terrain models) represent absolute height referenced to a datum, typically the mean sea level.<\/SPAN><\/P><\/LI><\/OL>
    Processing Steps:<\/SPAN><\/P>
    1. The NDVI dataset was merged together to form one large county layer.<\/SPAN><\/P><\/LI>
    2. The NDSM dataset was merged together to form one large countywide using 6 separate tiles that were all mosaiced together. This processes involved converting the processing bit depth from a unsigned 32-bit to a 32-bit floating point in order to get the correct height pixels. This data uses meters to measure height.<\/SPAN><\/P><\/LI>
    3. All areas where the surface height was greater than 1.8288 meters or 6 feet, and the NDVI value was <100 were extracted and assigned the value 1. This is the trees layer. The formula is listed below.<\/SPAN><\/P>
      1. SetNull(\"Mosaic_Height_Float2\", SetNull(\"NDVI_MERGED_Band_1\",1,\"Value <100\"),\"Value < 1.8288\")<\/SPAN><\/P><\/LI><\/OL><\/LI>
      2. To provide improved symbolization of trees across the County, and to remove a number of artifacts, a set of additional processes were run. The MajorityFilter command was run twice on the trees layer. For the options, I used 8 neighbors with the majority replacement threshold.<\/SPAN><\/P><\/LI><\/OL>
        <\/P>
        Important notes<\/SPAN><\/P>
        This trees layer has been validated to provide a true representation of trees. However, the data includes many small processing artifacts, and should not be used for authoritative measuring. There are also known issues with shadows and may result in the software picking up darker shadows as tree canopy. This is a common issue pertaining to using NDVI and NDSM data. <\/SPAN><\/P><\/DIV><\/DIV><\/DIV>", "name": "LARIAC7/TREE_CANOPY_2023", "description": "

        This layer is a combination of two datasets. One of which is an Normalized Difference Vegetation Index (NDVI) product derived from the LARIAC7 program and the other is a Normalized Digital Surface Model from our County partners at NV5. These two datasets were combined together to produce a new countywide tree canopy layer. The imagery was collected in Winter of 2023 and only includes urban/suburban areas of the County of Los Angeles. <\/SPAN><\/P>
        1. Los Angeles Region Imagery Acquisition Consortium (LARIAC-7) <\/SPAN><\/A>Normalized Difference Vegetation Index (NDVI) tiff tiles. NDVI is a simple numerical indicator that can be used to analyze remote sensing measurements, typically but not necessarily from a space platform, and assess whether the target being observed contains live green vegetation or not. NDVI was developed from the 2023 Color Infrared (CIR) imagery at 4-inch resolution which contains the Red and Near Infrared (NIR) Bands. <\/SPAN>Click here for more information.<\/SPAN><\/A><\/P><\/LI>
        2. Normalized Digital Surface Model (NDSM)<\/SPAN><\/A> tiff tiles. NDSM (normalized digital surface model) represents the relative height of features above the surrounding ground surface. It is a valuable elevation product that provides insights into the relative height of features compared to the surrounding ground. In contrast, DSMs (digital surface models) and DTMs (digital terrain models) represent absolute height referenced to a datum, typically the mean sea level.<\/SPAN><\/P><\/LI><\/OL>
          Processing Steps:<\/SPAN><\/P>
          1. The NDVI dataset was merged together to form one large county layer.<\/SPAN><\/P><\/LI>
          2. The NDSM dataset was merged together to form one large countywide using 6 separate tiles that were all mosaiced together. This processes involved converting the processing bit depth from a unsigned 32-bit to a 32-bit floating point in order to get the correct height pixels. This data uses meters to measure height.<\/SPAN><\/P><\/LI>
          3. All areas where the surface height was greater than 1.8288 meters or 6 feet, and the NDVI value was <100 were extracted and assigned the value 1. This is the trees layer. The formula is listed below.<\/SPAN><\/P>
            1. SetNull(\"Mosaic_Height_Float2\", SetNull(\"NDVI_MERGED_Band_1\",1,\"Value <100\"),\"Value < 1.8288\")<\/SPAN><\/P><\/LI><\/OL><\/LI>
            2. To provide improved symbolization of trees across the County, and to remove a number of artifacts, a set of additional processes were run. The MajorityFilter command was run twice on the trees layer. For the options, I used 8 neighbors with the majority replacement threshold.<\/SPAN><\/P><\/LI><\/OL>
              <\/P>
              Important notes<\/SPAN><\/P>
              This trees layer has been validated to provide a true representation of trees. However, the data includes many small processing artifacts, and should not be used for authoritative measuring. There are also known issues with shadows and may result in the software picking up darker shadows as tree canopy. This is a common issue pertaining to using NDVI and NDSM data. <\/SPAN><\/P><\/DIV><\/DIV><\/DIV>", "extent": { "xmin": 6273760, "ymin": 1564799.9999999998, "xmax": 6667118.793333333, "ymax": 2124480.639166666, "spatialReference": { "wkid": 103007, "latestWkid": 6424 } }, "initialExtent": { "xmin": 6273760, "ymin": 1564799.9999999998, "xmax": 6667118.793333333, "ymax": 2124480.639166666, "spatialReference": { "wkid": 103007, "latestWkid": 6424 } }, "fullExtent": { "xmin": 6273760, "ymin": 1564799.9999999998, "xmax": 6667118.793333333, "ymax": 2124480.639166666, "spatialReference": { "wkid": 103007, "latestWkid": 6424 } }, "hasMultidimensions": false, "pixelSizeX": 3.2808333333333306, "pixelSizeY": 3.280833333333332, "datasetFormat": "FGDBR", "uncompressedSize": 20453178536, "blockWidth": 128, "blockHeight": 128, "compressionType": "LZ77", "bandNames": [ "Band_1" ], "allowCopy": true, "allowAnalysis": true, "bandCount": 1, "pixelType": "S8", "minPixelSize": 0, "maxPixelSize": 0, "copyrightText": "Public Works SMPM, Nathan Shapiro", "serviceDataType": "esriImageServiceDataTypeGeneric", "serviceSourceType": "esriImageServiceSourceTypeDataset", "minValues": [ 1 ], "maxValues": [ 1 ], "meanValues": [ 1 ], "stdvValues": [ 0 ], "objectIdField": "", "fields": [], "capabilities": "Image,Metadata,Pixels,Mensuration", "defaultMosaicMethod": "Center", "allowedMosaicMethods": "", "sortField": "", "sortValue": null, "sortAscending": true, "mosaicOperator": "First", "defaultCompressionQuality": 75, "defaultResamplingMethod": "Bilinear", "maxImageHeight": 4100, "maxImageWidth": 15000, "allowRasterFunction": true, "rasterFunctionInfos": [ { "name": "None", "description": "", "help": "" } ], "rasterTypeInfos": [ { "name": "Raster Dataset", "description": "Supports all ArcGIS Raster Datasets", "help": "" } ], "mensurationCapabilities": "Basic", "hasHistograms": true, "hasColormap": false, "hasRasterAttributeTable": true, "minScale": 0, "maxScale": 0, "exportTilesAllowed": false, "supportsStatistics": false, "supportsAdvancedQueries": false, "editFieldsInfo": null, "ownershipBasedAccessControlForRasters": null, "allowComputeTiePoints": false, "useStandardizedQueries": true, "advancedQueryCapabilities": { "useStandardizedQueries": true, "supportsStatistics": false, "supportsOrderBy": false, "supportsDistinct": false, "supportsPagination": false }, "spatialReference": { "wkid": 103007, "latestWkid": 6424 } }