View In:
ArcGIS JavaScript
ArcGIS Online Map Viewer
ArcGIS Earth
ArcMap
View Footprint In:
ArcGIS Online Map Viewer
Service Description: test
Name: DPW/100yr_FloodDepth_All_County_UCI_50pctl_feet
Description: test
Single Fused Map Cache: false
Extent:
XMin: -118.713368
YMin: 33.537587
XMax: -117.51465132
YMax: 34.406656593
Spatial Reference: 4269
(4269)
LatestVCSWkid(0)
Initial Extent:
XMin: -118.713368
YMin: 33.537587
XMax: -117.51465132
YMax: 34.406656593
Spatial Reference: 4269
(4269)
LatestVCSWkid(0)
Full Extent:
XMin: -118.713368
YMin: 33.537587
XMax: -117.51465132
YMax: 34.406656593
Spatial Reference: 4269
(4269)
LatestVCSWkid(0)
Pixel Size X: 2.99679170000001E-5
Pixel Size Y: 2.9967916999999964E-5
Band Count: 1
Pixel Type: F32
RasterFunction Infos: {"rasterFunctionInfos": [{
"name": "None",
"description": "",
"help": ""
}]}
Mensuration Capabilities: Basic
Has Histograms: true
Has Colormap: false
Has Multi Dimensions : false
Rendering Rule:
Min Scale: 0
Max Scale: 0
Copyright Text:
Service Data Type: esriImageServiceDataTypeGeneric
Min Values: 0
Max Values: 252.30523681641
Mean Values: 0.44537062136355
Standard Deviation Values: 3.3897792743676
Object ID Field:
Fields:
None
Default Mosaic Method: Center
Allowed Mosaic Methods:
SortField:
SortValue: null
Mosaic Operator: First
Default Compression Quality: 75
Default Resampling Method: Bilinear
Max Record Count: null
Max Image Height: 4100
Max Image Width: 15000
Max Download Image Count: null
Max Mosaic Image Count: null
Allow Raster Function: true
Allow Copy: true
Allow Analysis: true
Allow Compute TiePoints: false
Supports Statistics: false
Supports Advanced Queries: false
Use StandardizedQueries: true
Raster Type Infos:
Name: Raster Dataset
Description: Supports all ArcGIS Raster Datasets
Help:
Has Raster Attribute Table: false
Edit Fields Info: null
Ownership Based AccessControl For Rasters: null
Child Resources:
Info
Histograms
Statistics
Key Properties
Legend
Raster Function Infos
Supported Operations:
Export Image
Identify
Measure
Compute Histograms
Compute Statistics Histograms
Get Samples
Compute Class Statistics
Query Boundary
Compute Pixel Location
Compute Angles
Validate
Project