View In:
ArcGIS JavaScript
ArcGIS Online Map Viewer
ArcGIS Earth
ArcMap
View Footprint In:
ArcGIS Online Map Viewer
Service Description: Tree canopy layer extracted from LAR-IAC4 land cover dataset.
Name: LARIAC4/eGIS_Environmental_EGIS_LARIAC_TREE_CANOPY_2016
Description: Tree canopy layer extracted from LAR-IAC4 land cover dataset.
Single Fused Map Cache: false
Extent:
XMin: 6275259.76185904
YMin: 1567332.2421496399
XMax: 6668475.76185904
YMax: 2122212.24214964
Spatial Reference: 102645
(2229)
LatestVCSWkid(0)
Initial Extent:
XMin: 6275259.76185904
YMin: 1567332.2421496399
XMax: 6668475.76185904
YMax: 2122212.24214964
Spatial Reference: 102645
(2229)
LatestVCSWkid(0)
Full Extent:
XMin: 6275259.76185904
YMin: 1567332.2421496399
XMax: 6668475.76185904
YMax: 2122212.24214964
Spatial Reference: 102645
(2229)
LatestVCSWkid(0)
Pixel Size X: 0.75
Pixel Size Y: 0.75
Band Count: 1
Pixel Type: U4
RasterFunction Infos: {"rasterFunctionInfos": [{
"name": "None",
"description": "",
"help": ""
}]}
Mensuration Capabilities: Basic
Has Histograms: false
Has Colormap: false
Has Multi Dimensions : false
Rendering Rule:
Min Scale: 0
Max Scale: 0
Copyright Text: LAR-IAC
Service Data Type: esriImageServiceDataTypeGeneric
Min Values: N/A
Max Values: N/A
Mean Values: N/A
Standard Deviation Values: N/A
Object ID Field:
Fields:
None
Default Mosaic Method: Center
Allowed Mosaic Methods:
SortField:
SortValue: null
Mosaic Operator: First
Default Compression Quality: 75
Default Resampling Method: Bilinear
Max Record Count: null
Max Image Height: 4100
Max Image Width: 15000
Max Download Image Count: null
Max Mosaic Image Count: null
Allow Raster Function: true
Allow Copy: true
Allow Analysis: true
Allow Compute TiePoints: false
Supports Statistics: false
Supports Advanced Queries: false
Use StandardizedQueries: true
Raster Type Infos:
Name: Raster Dataset
Description: Supports all ArcGIS Raster Datasets
Help:
Has Raster Attribute Table: true
Edit Fields Info: null
Ownership Based AccessControl For Rasters: null
Child Resources:
Info
Raster Attribute Table
Statistics
Key Properties
Legend
Raster Function Infos
Supported Operations:
Export Image
Identify
Measure
Compute Histograms
Compute Statistics Histograms
Get Samples
Compute Class Statistics
Query Boundary
Compute Pixel Location
Compute Angles
Validate
Project